BEGIN:VCALENDAR
VERSION:2.0
PRODID:-//jEvents 2.0 for Joomla//EN
CALSCALE:GREGORIAN
METHOD:PUBLISH
BEGIN:VEVENT
UID:bf91689d34731392bac00e453de6cf1c
CATEGORIES:Veranstaltungen
CREATED:20210920T152638
SUMMARY:Wandertag - halbtägig
DESCRIPTION:
DTSTAMP:20260426T015752
DTSTART:20210924T060000
DTEND:20210924T113500
SEQUENCE:0
TRANSP:OPAQUE
END:VEVENT
END:VCALENDAR