BEGIN:VCALENDAR
VERSION:2.0
PRODID:-//jEvents 2.0 for Joomla//EN
CALSCALE:GREGORIAN
METHOD:PUBLISH
BEGIN:VEVENT
UID:17750a9355f978058b38919325ab2d0a
CATEGORIES:Veranstaltungen
CREATED:20210915T071528
SUMMARY:Impftermin Foyer Sporthalle
DESCRIPTION:
DTSTAMP:20260426T000038
DTSTART:20211019T070000
DTEND:20211019T100000
SEQUENCE:0
TRANSP:OPAQUE
END:VEVENT
END:VCALENDAR