BEGIN:VCALENDAR
VERSION:2.0
PRODID:-//jEvents 2.0 for Joomla//EN
CALSCALE:GREGORIAN
METHOD:PUBLISH
BEGIN:VEVENT
UID:6048345ffa0e9a7567e99b727a17c31d
CATEGORIES:Veranstaltungen
CREATED:20210915T071450
SUMMARY:Impftermin Foyer Sporthalle
DESCRIPTION:
DTSTAMP:20260426T020242
DTSTART:20210921T070000
DTEND:20210921T100000
SEQUENCE:0
TRANSP:OPAQUE
END:VEVENT
END:VCALENDAR