BEGIN:VCALENDAR
VERSION:2.0
PRODID:-//jEvents 2.0 for Joomla//EN
CALSCALE:GREGORIAN
METHOD:PUBLISH
BEGIN:VEVENT
UID:31e946f078367ec642db7b7da5fe7a3c
CATEGORIES:Veranstaltungen
CREATED:20210727T141425
SUMMARY:Konferenz HTL 1. Semester 2021/22 - digital
DESCRIPTION:
DTSTAMP:20260425T204140
DTSTART:20220208T130000
DTEND:20220208T133000
SEQUENCE:0
TRANSP:OPAQUE
END:VEVENT
END:VCALENDAR