BEGIN:VCALENDAR
VERSION:2.0
PRODID:-//jEvents 2.0 for Joomla//EN
CALSCALE:GREGORIAN
METHOD:PUBLISH
BEGIN:VEVENT
UID:4b78927be8033be977562b1d49285d9b
CATEGORIES:Veranstaltungen
CREATED:20210727T141320
SUMMARY:Notenschluss 1.Semester
DESCRIPTION:
DTSTAMP:20260425T171521
DTSTART:20220208T070000
DTEND:20220208T110000
SEQUENCE:0
TRANSP:OPAQUE
END:VEVENT
END:VCALENDAR