BEGIN:VCALENDAR
VERSION:2.0
PRODID:-//jEvents 2.0 for Joomla//EN
CALSCALE:GREGORIAN
METHOD:PUBLISH
BEGIN:VEVENT
UID:29a25be04667225fb5753a87662b0eea
CATEGORIES:Veranstaltungen
CREATED:20210727T141206
SUMMARY:1. Elternsprechtag - digital
DESCRIPTION:
DTSTAMP:20260425T222100
DTSTART:20211125T153000
DTEND:20211125T183000
SEQUENCE:0
TRANSP:OPAQUE
END:VEVENT
END:VCALENDAR