BEGIN:VCALENDAR
VERSION:2.0
PRODID:-//jEvents 2.0 for Joomla//EN
CALSCALE:GREGORIAN
METHOD:PUBLISH
BEGIN:VEVENT
UID:f6e61138e4f0281380d694402453beae
CATEGORIES:Veranstaltungen
CREATED:20210727T141115
SUMMARY:SGA-Sitzung HLW
DESCRIPTION:
DTSTAMP:20260425T203912
DTSTART:20211201T150000
DTEND:20211201T160000
SEQUENCE:0
TRANSP:OPAQUE
END:VEVENT
END:VCALENDAR