BEGIN:VCALENDAR
VERSION:2.0
PRODID:-//jEvents 2.0 for Joomla//EN
CALSCALE:GREGORIAN
METHOD:PUBLISH
BEGIN:VEVENT
UID:de86d2950a799cab7d6fbe9df12c6f22
CATEGORIES:Veranstaltungen
CREATED:20210727T141047
SUMMARY:SGA-Sitzung HAK/HAS
DESCRIPTION:
DTSTAMP:20260425T222229
DTSTART:20211201T130000
DTEND:20211201T140000
SEQUENCE:0
TRANSP:OPAQUE
END:VEVENT
END:VCALENDAR