BEGIN:VCALENDAR
VERSION:2.0
PRODID:-//jEvents 2.0 for Joomla//EN
CALSCALE:GREGORIAN
METHOD:PUBLISH
BEGIN:VEVENT
UID:59eba7f898f02c926be2475ed50651cb
CATEGORIES:Veranstaltungen
CREATED:20210727T140826
SUMMARY:Wahlen SGA-LehrerInnenvertreter
DESCRIPTION:
DTSTAMP:20260426T000400
DTSTART:20211021T060000
DTEND:20211021T100000
SEQUENCE:0
TRANSP:OPAQUE
END:VEVENT
END:VCALENDAR