BEGIN:VCALENDAR
VERSION:2.0
PRODID:-//jEvents 2.0 for Joomla//EN
CALSCALE:GREGORIAN
METHOD:PUBLISH
BEGIN:VEVENT
UID:e2e1da81ff0245dbe7936e1ab656c50f
CATEGORIES:Veranstaltungen
CREATED:20210727T140737
SUMMARY:Wahlen SGA-ElternvertreterInnen
DESCRIPTION:
DTSTAMP:20260425T224036
DTSTART:20211119T070000
DTEND:20211119T110000
SEQUENCE:0
TRANSP:OPAQUE
END:VEVENT
END:VCALENDAR