BEGIN:VCALENDAR
VERSION:2.0
PRODID:-//jEvents 2.0 for Joomla//EN
CALSCALE:GREGORIAN
METHOD:PUBLISH
BEGIN:VEVENT
UID:5dc8e22f28a904ba144ad40b946c9f7d
CATEGORIES:Veranstaltungen
CREATED:20210727T140628
SUMMARY:Schulsprecherwahlen
DESCRIPTION:
DTSTAMP:20260426T000021
DTSTART:20211015T060000
DTEND:20211015T100000
SEQUENCE:0
TRANSP:OPAQUE
END:VEVENT
END:VCALENDAR