BEGIN:VCALENDAR
VERSION:2.0
PRODID:-//jEvents 2.0 for Joomla//EN
CALSCALE:GREGORIAN
METHOD:PUBLISH
BEGIN:VEVENT
UID:c9620309df0618db1e0d328844dd7a0f
CATEGORIES:Veranstaltungen
CREATED:20210720T152208
SUMMARY:3. schulautonomer Tag
DESCRIPTION:
DTSTAMP:20260425T204008
DTSTART:20220527T060000
DTEND:20220527T150000
SEQUENCE:0
TRANSP:OPAQUE
END:VEVENT
END:VCALENDAR