BEGIN:VCALENDAR
VERSION:2.0
PRODID:-//jEvents 2.0 for Joomla//EN
CALSCALE:GREGORIAN
METHOD:PUBLISH
BEGIN:VEVENT
UID:b46548420824f0aaeca50d9a533190d4
CATEGORIES:Veranstaltungen
CREATED:20210720T152040
SUMMARY:Schulfreier Tag laut Bildungsdirekton Tirol
DESCRIPTION:
DTSTAMP:20260425T171112
DTSTART:20220107T070000
DTEND:20220107T160000
SEQUENCE:0
TRANSP:OPAQUE
END:VEVENT
END:VCALENDAR