BEGIN:VCALENDAR
VERSION:2.0
PRODID:-//jEvents 2.0 for Joomla//EN
CALSCALE:GREGORIAN
METHOD:PUBLISH
BEGIN:VEVENT
UID:2e838f6601724e3483ba57663724df4a
CATEGORIES:Veranstaltungen
CREATED:20210720T151821
SUMMARY:letzte Praktikumswoche 3S
DESCRIPTION:
DTSTAMP:20260426T015755
DTSTART:20210913T060000
DTEND:20210917T150000
SEQUENCE:0
TRANSP:OPAQUE
END:VEVENT
END:VCALENDAR