BEGIN:VCALENDAR
VERSION:2.0
PRODID:-//jEvents 2.0 for Joomla//EN
CALSCALE:GREGORIAN
METHOD:PUBLISH
BEGIN:VEVENT
UID:cc88b9c2ba23248f2dc62cca0620a690
CATEGORIES:Veranstaltungen
CREATED:20210720T151416
SUMMARY:Allerheiligen - schulfrei
DESCRIPTION:
DTSTAMP:20260426T000044
DTSTART:20211101T070000
DTEND:20211101T160000
SEQUENCE:0
TRANSP:OPAQUE
END:VEVENT
END:VCALENDAR