BEGIN:VCALENDAR
VERSION:2.0
PRODID:-//jEvents 2.0 for Joomla//EN
CALSCALE:GREGORIAN
METHOD:PUBLISH
BEGIN:VEVENT
UID:ce7c8aff7221b9f71b678b8d20aa0ce2
CATEGORIES:Termine
CREATED:20210717T104116
SUMMARY:Neulehrerbesprechung
DESCRIPTION:
DTSTAMP:20260426T000440
DTSTART:20210913T123000
DTEND:20210913T140000
SEQUENCE:0
TRANSP:OPAQUE
END:VEVENT
END:VCALENDAR