BEGIN:VCALENDAR
VERSION:2.0
PRODID:-//jEvents 2.0 for Joomla//EN
CALSCALE:GREGORIAN
METHOD:PUBLISH
BEGIN:VEVENT
UID:2e166d54c1d3349f81e51337582718f9
CATEGORIES:Termine
CREATED:20210717T103904
SUMMARY:Wiederholungsprüfungen
DESCRIPTION:
DTSTAMP:20260426T000201
DTSTART:20210913T060000
DTEND:20210914T140000
SEQUENCE:0
TRANSP:OPAQUE
END:VEVENT
END:VCALENDAR