BEGIN:VCALENDAR
VERSION:2.0
PRODID:-//jEvents 2.0 for Joomla//EN
CALSCALE:GREGORIAN
METHOD:PUBLISH
BEGIN:VEVENT
UID:d030ec683c951fc51416d03bd47c9b47
CATEGORIES:Veranstaltungen
CREATED:20210716T113409
SUMMARY:Semesterferien
DESCRIPTION:
DTSTAMP:20260425T204112
DTSTART:20220214T070000
DTEND:20220219T160000
SEQUENCE:0
TRANSP:OPAQUE
END:VEVENT
END:VCALENDAR