BEGIN:VCALENDAR
VERSION:2.0
PRODID:-//jEvents 2.0 for Joomla//EN
CALSCALE:GREGORIAN
METHOD:PUBLISH
BEGIN:VEVENT
UID:ddea31c97c5fbdcfea12712bb30c2854
CATEGORIES:Veranstaltungen
CREATED:20210716T113330
SUMMARY:Anmeldung für das Schuljahr 2022/23
DESCRIPTION:
DTSTAMP:20260425T204334
DTSTART:20220211T070000
DTEND:20220304T150000
SEQUENCE:0
TRANSP:OPAQUE
END:VEVENT
END:VCALENDAR