BEGIN:VCALENDAR
VERSION:2.0
PRODID:-//jEvents 2.0 for Joomla//EN
CALSCALE:GREGORIAN
METHOD:PUBLISH
BEGIN:VEVENT
UID:8650cb0ac3a098b0b746744bd8697f30
CATEGORIES:Veranstaltungen
CREATED:20210716T113238
SUMMARY:Verteilung der Schulnachrichten
DESCRIPTION:
DTSTAMP:20260425T204333
DTSTART:20220211T070000
DTEND:20220211T110000
SEQUENCE:0
TRANSP:OPAQUE
END:VEVENT
END:VCALENDAR