BEGIN:VCALENDAR
VERSION:2.0
PRODID:-//jEvents 2.0 for Joomla//EN
CALSCALE:GREGORIAN
METHOD:PUBLISH
BEGIN:VEVENT
UID:363c8770b4b9aaae86ba2c14a4c7a021
CATEGORIES:Veranstaltungen
CREATED:20210716T113047
SUMMARY:Weihnachtsferien
DESCRIPTION:
DTSTAMP:20260425T171413
DTSTART:20211224T070000
DTEND:20220106T160000
SEQUENCE:0
TRANSP:OPAQUE
END:VEVENT
END:VCALENDAR