BEGIN:VCALENDAR
VERSION:2.0
PRODID:-//jEvents 2.0 for Joomla//EN
CALSCALE:GREGORIAN
METHOD:PUBLISH
BEGIN:VEVENT
UID:c84130657102d2389c35b80c75f93c5d
CATEGORIES:Veranstaltungen
CREATED:20210716T113014
SUMMARY:Maria Empfängnis - Feiertag
DESCRIPTION:
DTSTAMP:20260425T204043
DTSTART:20211208T070000
DTEND:20211208T160000
SEQUENCE:0
TRANSP:OPAQUE
END:VEVENT
END:VCALENDAR