BEGIN:VCALENDAR
VERSION:2.0
PRODID:-//jEvents 2.0 for Joomla//EN
CALSCALE:GREGORIAN
METHOD:PUBLISH
BEGIN:VEVENT
UID:1b0ddb422ead0c6049b39a1a73bc46d6
CATEGORIES:Veranstaltungen
CREATED:20210716T112940
SUMMARY:Allerseelen - schulfrei
DESCRIPTION:
DTSTAMP:20260425T223409
DTSTART:20211102T070000
DTEND:20211102T160000
SEQUENCE:0
TRANSP:OPAQUE
END:VEVENT
END:VCALENDAR