BEGIN:VCALENDAR
VERSION:2.0
PRODID:-//jEvents 2.0 for Joomla//EN
CALSCALE:GREGORIAN
METHOD:PUBLISH
BEGIN:VEVENT
UID:c5aff875abe8902894b0f3aaaa439e94
CATEGORIES:Veranstaltungen
CREATED:20210716T112908
SUMMARY:Herbstferien
DESCRIPTION:
DTSTAMP:20260426T000353
DTSTART:20211027T060000
DTEND:20211031T160000
SEQUENCE:0
TRANSP:OPAQUE
END:VEVENT
END:VCALENDAR