BEGIN:VCALENDAR
VERSION:2.0
PRODID:-//jEvents 2.0 for Joomla//EN
CALSCALE:GREGORIAN
METHOD:PUBLISH
BEGIN:VEVENT
UID:8bb6510f0720be7724fb612ac9ce386c
CATEGORIES:Veranstaltungen
CREATED:20210716T112812
SUMMARY:schulautonom frei
DESCRIPTION:
DTSTAMP:20260426T000320
DTSTART:20211025T060000
DTEND:20211025T210000
SEQUENCE:0
TRANSP:OPAQUE
END:VEVENT
END:VCALENDAR