BEGIN:VCALENDAR
VERSION:2.0
PRODID:-//jEvents 2.0 for Joomla//EN
CALSCALE:GREGORIAN
METHOD:PUBLISH
BEGIN:VEVENT
UID:122853acd570e8f1b2b0b2b33d89412a
CATEGORIES:Veranstaltungen
CREATED:20210716T112744
SUMMARY:Nationalfeiertag
DESCRIPTION:
DTSTAMP:20260425T235908
DTSTART:20211026T060000
DTEND:20211026T210000
SEQUENCE:0
TRANSP:OPAQUE
END:VEVENT
END:VCALENDAR