BEGIN:VCALENDAR
VERSION:2.0
PRODID:-//jEvents 2.0 for Joomla//EN
CALSCALE:GREGORIAN
METHOD:PUBLISH
BEGIN:VEVENT
UID:c29dd851a7c6bb3dc84b37f9f1f0af11
CATEGORIES:Veranstaltungen
CREATED:20210716T112615
SUMMARY:Klassensprecherwahlen
DESCRIPTION:
DTSTAMP:20260426T000039
DTSTART:20211004T060000
DTEND:20211006T100000
SEQUENCE:0
TRANSP:OPAQUE
END:VEVENT
END:VCALENDAR