BEGIN:VCALENDAR
VERSION:2.0
PRODID:-//jEvents 2.0 for Joomla//EN
CALSCALE:GREGORIAN
METHOD:PUBLISH
BEGIN:VEVENT
UID:2e0e5eb3167efec776b6585d98fc5dc1
CATEGORIES:Veranstaltungen
CREATED:20210716T112249
SUMMARY:Eröffnungskonferenz HTL
DESCRIPTION:
DTSTAMP:20260426T020505
DTSTART:20210915T123000
DTEND:20210915T130000
SEQUENCE:0
TRANSP:OPAQUE
END:VEVENT
END:VCALENDAR