BEGIN:VCALENDAR
VERSION:2.0
PRODID:-//jEvents 2.0 for Joomla//EN
CALSCALE:GREGORIAN
METHOD:PUBLISH
BEGIN:VEVENT
UID:4917eda6b3f25ab656c3d83df1e34813
CATEGORIES:Veranstaltungen
CREATED:20210715T134622
SUMMARY:Fototermin mit Foto GMR
DESCRIPTION:
DTSTAMP:20260426T000231
DTSTART:20211013T060000
DTEND:20211014T130000
SEQUENCE:0
TRANSP:OPAQUE
END:VEVENT
END:VCALENDAR