BEGIN:VCALENDAR
VERSION:2.0
PRODID:-//jEvents 2.0 for Joomla//EN
CALSCALE:GREGORIAN
METHOD:PUBLISH
BEGIN:VEVENT
UID:9001e704c68c058e63b9c6a01a6b2377
CATEGORIES:Veranstaltungen
CREATED:20210715T134504
SUMMARY:Fototermin der HTL-SchülerInnen
DESCRIPTION:
DTSTAMP:20260426T020215
DTSTART:20210917T060000
DTEND:20210917T100000
SEQUENCE:0
TRANSP:OPAQUE
END:VEVENT
END:VCALENDAR