BEGIN:VCALENDAR
VERSION:2.0
PRODID:-//jEvents 2.0 for Joomla//EN
CALSCALE:GREGORIAN
METHOD:PUBLISH
BEGIN:VEVENT
UID:f6d3a3ddb1a57651dd45f81865bc5b82
CATEGORIES:Veranstaltungen
CREATED:20210715T134428
SUMMARY:Schulbeginn 4W
DESCRIPTION:
DTSTAMP:20260426T000351
DTSTART:20211004T060000
DTEND:20211004T100000
SEQUENCE:0
TRANSP:OPAQUE
END:VEVENT
END:VCALENDAR