BEGIN:VCALENDAR
VERSION:2.0
PRODID:-//jEvents 2.0 for Joomla//EN
CALSCALE:GREGORIAN
METHOD:PUBLISH
BEGIN:VEVENT
UID:1f57057535ddfc7bd6f2090b8a93a681
CATEGORIES:Veranstaltungen
CREATED:20210715T134306
SUMMARY:Eröffnungsgottesdienst
DESCRIPTION:
DTSTAMP:20260426T015753
DTSTART:20210915T060000
DTEND:20210915T070000
SEQUENCE:0
TRANSP:OPAQUE
END:VEVENT
END:VCALENDAR