BEGIN:VCALENDAR
VERSION:2.0
PRODID:-//jEvents 2.0 for Joomla//EN
CALSCALE:GREGORIAN
METHOD:PUBLISH
BEGIN:VEVENT
UID:63db40ee433517c84025d6e43f8bc722
CATEGORIES:Veranstaltungen
CREATED:20210715T134151
SUMMARY:Schulbeginn
DESCRIPTION:
DTSTAMP:20260426T020037
DTSTART:20210913T060000
DTEND:20210913T100000
SEQUENCE:0
TRANSP:OPAQUE
END:VEVENT
END:VCALENDAR