BEGIN:VCALENDAR
VERSION:2.0
PRODID:-//jEvents 2.0 for Joomla//EN
CALSCALE:GREGORIAN
METHOD:PUBLISH
BEGIN:VEVENT
UID:9c4f9a27201ee053e22bb73e5da5946c
CATEGORIES:Veranstaltungen
CREATED:20210426T103426
SUMMARY:Aufnahmeprüfungen für Schuljahr 2021/22
DESCRIPTION:
DTSTAMP:20260426T033139
DTSTART:20210707T060000
DTEND:20210707T150000
SEQUENCE:0
TRANSP:OPAQUE
END:VEVENT
END:VCALENDAR