BEGIN:VCALENDAR
VERSION:2.0
PRODID:-//jEvents 2.0 for Joomla//EN
CALSCALE:GREGORIAN
METHOD:PUBLISH
BEGIN:VEVENT
UID:1b62f6c90d84c6e71b04296c0bd214d4
CATEGORIES:Veranstaltungen
CREATED:20210426T103247
SUMMARY:Feiertag - Fronleichnam
DESCRIPTION:
DTSTAMP:20260426T000323
DTSTART:20210603T060000
DTEND:20210603T150000
SEQUENCE:0
TRANSP:OPAQUE
END:VEVENT
END:VCALENDAR