BEGIN:VCALENDAR
VERSION:2.0
PRODID:-//jEvents 2.0 for Joomla//EN
CALSCALE:GREGORIAN
METHOD:PUBLISH
BEGIN:VEVENT
UID:34967030852c9e483c0e71e404ed4631
CATEGORIES:Veranstaltungen
CREATED:20210426T103223
SUMMARY:Pfingstmontag
DESCRIPTION:
DTSTAMP:20260425T222102
DTSTART:20210524T060000
DTEND:20210524T150000
SEQUENCE:0
TRANSP:OPAQUE
END:VEVENT
END:VCALENDAR