BEGIN:VCALENDAR
VERSION:2.0
PRODID:-//jEvents 2.0 for Joomla//EN
CALSCALE:GREGORIAN
METHOD:PUBLISH
BEGIN:VEVENT
UID:01dd45e1e03c724b20f2f7db0597de0a
CATEGORIES:Veranstaltungen
CREATED:20210426T103156
SUMMARY:schulautonom frei
DESCRIPTION:
DTSTAMP:20260425T222040
DTSTART:20210514T060000
DTEND:20210514T150000
SEQUENCE:0
TRANSP:OPAQUE
END:VEVENT
END:VCALENDAR