BEGIN:VCALENDAR
VERSION:2.0
PRODID:-//jEvents 2.0 for Joomla//EN
CALSCALE:GREGORIAN
METHOD:PUBLISH
BEGIN:VEVENT
UID:089ca19e7414c7f6ad9dc9c568b3ff9b
CATEGORIES:Veranstaltungen
CREATED:20210426T103133
SUMMARY:Feiertag Christi Himmelfahrt
DESCRIPTION:
DTSTAMP:20260425T223621
DTSTART:20210513T060000
DTEND:20210513T150000
SEQUENCE:0
TRANSP:OPAQUE
END:VEVENT
END:VCALENDAR