BEGIN:VCALENDAR
VERSION:2.0
PRODID:-//jEvents 2.0 for Joomla//EN
CALSCALE:GREGORIAN
METHOD:PUBLISH
BEGIN:VEVENT
UID:39a98b2f796ac18e2d7f31e33025d0f9
CATEGORIES:Veranstaltungen
CREATED:20210426T103107
SUMMARY:praktische Vorprüfungen 4w
DESCRIPTION:
DTSTAMP:20260425T204527
DTSTART:20210425T060000
DTEND:20210425T150000
SEQUENCE:0
TRANSP:OPAQUE
END:VEVENT
END:VCALENDAR