BEGIN:VCALENDAR
VERSION:2.0
PRODID:-//jEvents 2.0 for Joomla//EN
CALSCALE:GREGORIAN
METHOD:PUBLISH
BEGIN:VEVENT
UID:a53521f18d493e34d58de53136aaa5b3
CATEGORIES:Veranstaltungen
CREATED:20210426T101431
SUMMARY:mündliche RDP-Prüfungen 
DESCRIPTION:
DTSTAMP:20260426T000203
DTSTART:20210624T060000
DTEND:20210624T120000
SEQUENCE:0
TRANSP:OPAQUE
END:VEVENT
END:VCALENDAR