BEGIN:VCALENDAR
VERSION:2.0
PRODID:-//jEvents 2.0 for Joomla//EN
CALSCALE:GREGORIAN
METHOD:PUBLISH
BEGIN:VEVENT
UID:05a879327001739c049a623234e6b8e1
CATEGORIES:Veranstaltungen
CREATED:20210426T100616
SUMMARY:Zeugnisverteilung 5WB
DESCRIPTION:
DTSTAMP:20260426T001722
DTSTART:20210629T153000
DTEND:20210629T170000
SEQUENCE:0
TRANSP:OPAQUE
END:VEVENT
END:VCALENDAR