BEGIN:VCALENDAR
VERSION:2.0
PRODID:-//jEvents 2.0 for Joomla//EN
CALSCALE:GREGORIAN
METHOD:PUBLISH
BEGIN:VEVENT
UID:115dc13b55a037c6770a5c62c6ffee21
CATEGORIES:Veranstaltungen
CREATED:20210426T100545
SUMMARY:Zeugnisverteilung 5WA
DESCRIPTION:
DTSTAMP:20260426T015935
DTSTART:20210628T153000
DTEND:20210628T170000
SEQUENCE:0
TRANSP:OPAQUE
END:VEVENT
END:VCALENDAR