BEGIN:VCALENDAR
VERSION:2.0
PRODID:-//jEvents 2.0 for Joomla//EN
CALSCALE:GREGORIAN
METHOD:PUBLISH
BEGIN:VEVENT
UID:5234cc7c2ec28680f8460a620a77e115
CATEGORIES:Veranstaltungen
CREATED:20210426T100507
SUMMARY:Zeugnisverteilung 3S
DESCRIPTION:
DTSTAMP:20260426T000400
DTSTART:20210625T153000
DTEND:20210625T170000
SEQUENCE:0
TRANSP:OPAQUE
END:VEVENT
END:VCALENDAR