BEGIN:VCALENDAR
VERSION:2.0
PRODID:-//jEvents 2.0 for Joomla//EN
CALSCALE:GREGORIAN
METHOD:PUBLISH
BEGIN:VEVENT
UID:d0bbb750082e6e8492425a359dee7f37
CATEGORIES:Veranstaltungen
CREATED:20210426T100422
SUMMARY:Zeugnisverteilung 5a
DESCRIPTION:
DTSTAMP:20260426T000525
DTSTART:20210624T153000
DTEND:20210624T170000
SEQUENCE:0
TRANSP:OPAQUE
END:VEVENT
END:VCALENDAR