BEGIN:VCALENDAR
VERSION:2.0
PRODID:-//jEvents 2.0 for Joomla//EN
CALSCALE:GREGORIAN
METHOD:PUBLISH
BEGIN:VEVENT
UID:23a7601f70f67eae0d469d5efd0fb8d2
CATEGORIES:Veranstaltungen
CREATED:20210426T100042
SUMMARY:Fototermin für Maturaklassen
DESCRIPTION:
DTSTAMP:20260426T001816
DTSTART:20210608T120000
DTEND:20210608T140000
SEQUENCE:0
TRANSP:OPAQUE
END:VEVENT
END:VCALENDAR