BEGIN:VCALENDAR
VERSION:2.0
PRODID:-//jEvents 2.0 for Joomla//EN
CALSCALE:GREGORIAN
METHOD:PUBLISH
BEGIN:VEVENT
UID:22178bbbd865d129cc9e9630550443fe
CATEGORIES:Veranstaltungen
CREATED:20210419T155314
SUMMARY:Konferenz Themenvorschläge Diplomarbeiten
DESCRIPTION:
DTSTAMP:20260426T000046
DTSTART:20210505T140000
DTEND:20210505T150000
SEQUENCE:0
TRANSP:OPAQUE
END:VEVENT
END:VCALENDAR