BEGIN:VCALENDAR
VERSION:2.0
PRODID:-//jEvents 2.0 for Joomla//EN
CALSCALE:GREGORIAN
METHOD:PUBLISH
BEGIN:VEVENT
UID:704b86dfd6a4aac5184bb849c68bc591
CATEGORIES:Veranstaltungen
CREATED:20210413T154858
SUMMARY:Elternsprechtag - digital
DESCRIPTION:
DTSTAMP:20260425T204333
DTSTART:20210429T143000
DTEND:20210429T173000
SEQUENCE:0
TRANSP:OPAQUE
END:VEVENT
END:VCALENDAR