BEGIN:VCALENDAR
VERSION:2.0
PRODID:-//jEvents 2.0 for Joomla//EN
CALSCALE:GREGORIAN
METHOD:PUBLISH
BEGIN:VEVENT
UID:d59b0ba836cb6e51c5944cde768127b9
CATEGORIES:Veranstaltungen
CREATED:20210412T105146
SUMMARY:Abgabe der Themenvorschläge Diplomarbeiten 
DESCRIPTION:
DTSTAMP:20260425T204327
DTSTART:20210428T060000
DTEND:20210428T100000
SEQUENCE:0
TRANSP:OPAQUE
END:VEVENT
END:VCALENDAR