BEGIN:VCALENDAR
VERSION:2.0
PRODID:-//jEvents 2.0 for Joomla//EN
CALSCALE:GREGORIAN
METHOD:PUBLISH
BEGIN:VEVENT
UID:22d16e9ca030f4bdebe0e301a44d4b19
CATEGORIES:Veranstaltungen
CREATED:20210412T104626
SUMMARY:Ergänzungsunterricht für Abschlussklassen
DESCRIPTION:
DTSTAMP:20260426T000443
DTSTART:20210510T060000
DTEND:20210512T140000
SEQUENCE:0
TRANSP:OPAQUE
END:VEVENT
END:VCALENDAR