BEGIN:VCALENDAR
VERSION:2.0
PRODID:-//jEvents 2.0 for Joomla//EN
CALSCALE:GREGORIAN
METHOD:PUBLISH
BEGIN:VEVENT
UID:87b955ff18d6f42daed9eeeb72241c86
CATEGORIES:Veranstaltungen
CREATED:20210412T101207
SUMMARY:Ergänzungsunterricht für Abschlussklassen
DESCRIPTION:
DTSTAMP:20260425T203848
DTSTART:20210427T060000
DTEND:20210430T140000
SEQUENCE:0
TRANSP:OPAQUE
END:VEVENT
END:VCALENDAR